BEGIN:VCALENDAR
VERSION:2.0
PRODID:-//Hellefinna - ECPv6.15.20//NONSGML v1.0//EN
CALSCALE:GREGORIAN
METHOD:PUBLISH
X-WR-CALNAME:Hellefinna
X-ORIGINAL-URL:https://hellefinna.helle-extranet.fi
X-WR-CALDESC:Tapahtumat Hellefinna
REFRESH-INTERVAL;VALUE=DURATION:PT1H
X-Robots-Tag:noindex
X-PUBLISHED-TTL:PT1H
BEGIN:VTIMEZONE
TZID:Europe/Helsinki
BEGIN:DAYLIGHT
TZOFFSETFROM:+0200
TZOFFSETTO:+0300
TZNAME:EEST
DTSTART:20240331T010000
END:DAYLIGHT
BEGIN:STANDARD
TZOFFSETFROM:+0300
TZOFFSETTO:+0200
TZNAME:EET
DTSTART:20241027T010000
END:STANDARD
BEGIN:DAYLIGHT
TZOFFSETFROM:+0200
TZOFFSETTO:+0300
TZNAME:EEST
DTSTART:20250330T010000
END:DAYLIGHT
BEGIN:STANDARD
TZOFFSETFROM:+0300
TZOFFSETTO:+0200
TZNAME:EET
DTSTART:20251026T010000
END:STANDARD
BEGIN:DAYLIGHT
TZOFFSETFROM:+0200
TZOFFSETTO:+0300
TZNAME:EEST
DTSTART:20260329T010000
END:DAYLIGHT
BEGIN:STANDARD
TZOFFSETFROM:+0300
TZOFFSETTO:+0200
TZNAME:EET
DTSTART:20261025T010000
END:STANDARD
BEGIN:DAYLIGHT
TZOFFSETFROM:+0200
TZOFFSETTO:+0300
TZNAME:EEST
DTSTART:20270328T010000
END:DAYLIGHT
BEGIN:STANDARD
TZOFFSETFROM:+0300
TZOFFSETTO:+0200
TZNAME:EET
DTSTART:20271031T010000
END:STANDARD
BEGIN:DAYLIGHT
TZOFFSETFROM:+0200
TZOFFSETTO:+0300
TZNAME:EEST
DTSTART:20280326T010000
END:DAYLIGHT
BEGIN:STANDARD
TZOFFSETFROM:+0300
TZOFFSETTO:+0200
TZNAME:EET
DTSTART:20281029T010000
END:STANDARD
BEGIN:DAYLIGHT
TZOFFSETFROM:+0200
TZOFFSETTO:+0300
TZNAME:EEST
DTSTART:20290325T010000
END:DAYLIGHT
BEGIN:STANDARD
TZOFFSETFROM:+0300
TZOFFSETTO:+0200
TZNAME:EET
DTSTART:20291028T010000
END:STANDARD
BEGIN:DAYLIGHT
TZOFFSETFROM:+0200
TZOFFSETTO:+0300
TZNAME:EEST
DTSTART:20300331T010000
END:DAYLIGHT
BEGIN:STANDARD
TZOFFSETFROM:+0300
TZOFFSETTO:+0200
TZNAME:EET
DTSTART:20301027T010000
END:STANDARD
BEGIN:DAYLIGHT
TZOFFSETFROM:+0200
TZOFFSETTO:+0300
TZNAME:EEST
DTSTART:20310330T010000
END:DAYLIGHT
BEGIN:STANDARD
TZOFFSETFROM:+0300
TZOFFSETTO:+0200
TZNAME:EET
DTSTART:20311026T010000
END:STANDARD
BEGIN:DAYLIGHT
TZOFFSETFROM:+0200
TZOFFSETTO:+0300
TZNAME:EEST
DTSTART:20320328T010000
END:DAYLIGHT
BEGIN:STANDARD
TZOFFSETFROM:+0300
TZOFFSETTO:+0200
TZNAME:EET
DTSTART:20321031T010000
END:STANDARD
BEGIN:DAYLIGHT
TZOFFSETFROM:+0200
TZOFFSETTO:+0300
TZNAME:EEST
DTSTART:20330327T010000
END:DAYLIGHT
BEGIN:STANDARD
TZOFFSETFROM:+0300
TZOFFSETTO:+0200
TZNAME:EET
DTSTART:20331030T010000
END:STANDARD
BEGIN:DAYLIGHT
TZOFFSETFROM:+0200
TZOFFSETTO:+0300
TZNAME:EEST
DTSTART:20340326T010000
END:DAYLIGHT
BEGIN:STANDARD
TZOFFSETFROM:+0300
TZOFFSETTO:+0200
TZNAME:EET
DTSTART:20341029T010000
END:STANDARD
BEGIN:DAYLIGHT
TZOFFSETFROM:+0200
TZOFFSETTO:+0300
TZNAME:EEST
DTSTART:20350325T010000
END:DAYLIGHT
BEGIN:STANDARD
TZOFFSETFROM:+0300
TZOFFSETTO:+0200
TZNAME:EET
DTSTART:20351028T010000
END:STANDARD
BEGIN:DAYLIGHT
TZOFFSETFROM:+0200
TZOFFSETTO:+0300
TZNAME:EEST
DTSTART:20360330T010000
END:DAYLIGHT
BEGIN:STANDARD
TZOFFSETFROM:+0300
TZOFFSETTO:+0200
TZNAME:EET
DTSTART:20361026T010000
END:STANDARD
END:VTIMEZONE
BEGIN:VEVENT
DTSTART;TZID=Europe/Helsinki:20251014T080000
DTEND;TZID=Europe/Helsinki:20351231T170000
DTSTAMP:20260423T021856
CREATED:20251014T112102Z
LAST-MODIFIED:20251015T095128Z
UID:13972-1760428800-2082733200@hellefinna.helle-extranet.fi
SUMMARY:Loviisan kirjastojen tapahtumat | Evenemang i Lovisa bibliotek
DESCRIPTION:Loviisan tapahtumakalenterin kautta löydät kaikki tapahtumat\, joita Loviisan kirjasto järjestää. Klikkaa jotakin Loviisan kirjastoa\, niin näet siellä tällä hetkellä järjestettävät tapahtumat. \n\n\n\nLinkki kalenteriin: https://tapahtumat.loviisa.fi/fi-FI/topic/5eb11b9693cbdd08b257f28c?mode=organizer&count=9 \n\n\n\n— \n\n\n\nVia Lovisa evenemangskalender hittar du alla evenemang som Lovisa bibliotek ordnar. Klicka på ett bibliotek i Lovisa så ser du de evenemang som ordnas där för tillfället. \n\n\n\nLänk till kalendern: https://tapahtumat.loviisa.fi/sv-FI/topic/5eb11b9693cbdd08b257f28c?mode=organizer&count=9
URL:https://hellefinna.helle-extranet.fi/event/loviisan-kirjastojen-tapahtumat-evenemang-i-lovisa-bibliotek/
CATEGORIES:loviisa-lovisa
ATTACH;FMTTYPE=image/jpeg:https://hellefinna.helle-extranet.fi/wp-content/uploads/2025/10/485155951_1031802935664210_6296236186172554160_n.jpg
END:VEVENT
BEGIN:VEVENT
DTSTART;TZID=Europe/Helsinki:20251205T080000
DTEND;TZID=Europe/Helsinki:20260630T170000
DTSTAMP:20260423T021856
CREATED:20251205T091116Z
LAST-MODIFIED:20251205T092604Z
UID:14292-1764921600-1782838800@hellefinna.helle-extranet.fi
SUMMARY:Verkkonäyttely: Naapureita ja Kyläläisiä
DESCRIPTION:Naapureita ja kyläläisiä -näyttely koostuu yli sadasta Lauri Hakalehdon tekemästä lyijykynäpiirroksesta.
URL:https://hellefinna.helle-extranet.fi/event/verkkonayttely-naapureita-ja-kylalaisia/
CATEGORIES:askola,Näyttelyt
ORGANIZER;CN="Askolan P%C3%A4%C3%A4kirjasto":MAILTO:kirjasto@askola.fi
END:VEVENT
BEGIN:VEVENT
DTSTART;TZID=Europe/Helsinki:20260219T000000
DTEND;TZID=Europe/Helsinki:20260512T235959
DTSTAMP:20260423T021856
CREATED:20260219T063313Z
LAST-MODIFIED:20260220T113717Z
UID:14982-1771459200-1778630399@hellefinna.helle-extranet.fi
SUMMARY:Digiopastusta senioreille kevät 2026/Digihandledning för seniorer våren 2026
DESCRIPTION:Enter ry:n vapaaehtoiset seniorit opastavat henkilökohtaisesti\, maksutta ja kiireettömästi tietokoneiden\, tablettien ja kännyköiden käytössä. Opastusta on Sipoon pääkirjastossa ja Söderkullan kirjastossa. \n\n\n\nOpastukset 13.1.–12.5.2026Tiistaisin klo 10–11 ja torstaisin klo 13–14 \n\n\n\nVaraa opastusaika etukäteen kirjastosta tai soita kirjaston palvelunumeroon 09 2353 6003. \n\n\n\nLisätietoa:www.entersenior.fi \n\n\n\n*** \n\n\n\nEnter ry:s frivilliga seniorer ger personlig och avgiftsfri kamrathandledning i användning av datorer\, surfplattor och mobiltelefoner. Handledning ges på Sibbo huvudbibliotek och på Söderkulla bibliotek. Handledningen är på finska. \n\n\n\nHandledning 13.1–12.5.2026Tisdagar kl. 10–11 och torsdagar kl. 13–14 \n\n\n\nBoka tid på förhand på biblioteket eller ring bibliotekets servicenummer 09 2353 6003. \n\n\n\nMer information:www.entersenior.fi
URL:https://hellefinna.helle-extranet.fi/event/digiopastusta-senioreille-digihandledning-for-seniorer/
CATEGORIES:sipoo-sibbo
ATTACH;FMTTYPE=image/jpeg:https://hellefinna.helle-extranet.fi/wp-content/uploads/2025/07/digiopastus-senioreille.jpg
END:VEVENT
BEGIN:VEVENT
DTSTART;TZID=Europe/Helsinki:20260401T000000
DTEND;TZID=Europe/Helsinki:20260430T235959
DTSTAMP:20260423T021856
CREATED:20260319T092711Z
LAST-MODIFIED:20260319T092711Z
UID:15215-1775001600-1777593599@hellefinna.helle-extranet.fi
SUMMARY:Näyttely/Utställning: Martina Löfberg – Kun maa unelmoi/När jorden drömmer
DESCRIPTION:Martina Löfbergin viidakkoteemainen näyttely on esillä pääkirjastossa 1.–30.4. \n\n\n\n”Tarkastelen luontoa – sen monimuotoisuutta\, väriloistoa ja vaihtelevia ulottuvuuksia ehtymättömänä inspiraation lähteenä.” \n\n\n\n*** \n\n\n\nMartina Löfbergs utställning med djungeltema visas på huvudbiblioteket 1–30.4. \n\n\n\n”Jag betraktar naturen – dess mångfald\, färgprakt och skiftande dimensioner somen oändlig källa till inspiration.”
URL:https://hellefinna.helle-extranet.fi/event/nayttely-utstallning-martina-lofberg-kun-maa-unelmoi-nar-jorden-drommer/
LOCATION:Sipoon pääkirjasto – Sibbo huvudbibliotek\, Pohjoinen Koulutie 2\, Sipoo\, 04130\, Suomi
CATEGORIES:sipoo-sibbo
ATTACH;FMTTYPE=image/png:https://hellefinna.helle-extranet.fi/wp-content/uploads/2026/03/Nayttely-Kun-maa-unelmoi-tapahtumakalenteri.png
END:VEVENT
BEGIN:VEVENT
DTSTART;TZID=Europe/Helsinki:20260402T000000
DTEND;TZID=Europe/Helsinki:20260513T235959
DTSTAMP:20260423T021856
CREATED:20260319T094922Z
LAST-MODIFIED:20260319T094923Z
UID:15218-1775088000-1778716799@hellefinna.helle-extranet.fi
SUMMARY:Sarjakuvanäyttely/Serieutställning: Filippa Hella – Norsu Algotin kärsimykset/Elefanten Algots lidanden
DESCRIPTION:Filippa Hellan sarjakuvanäyttely Itkuherkkä norsu + klassikko = Norsu Algotin kärsimykset on esillä Söderkullan kirjastossa 2.4.–13.5. \n\n\n\nSurumielinen sarjakuvahahmo Algot lähtee vihdoin pois märältä räsymatoltaan – ajasta ja paikasta toiseen. Sininen takki\, keltainen liivi\, siniset housut ja keltaiset sukat johdattavat hänet maailmankirjallisuuden klassikon sivuille. Tule mukaan seuraamaan Algotin uutta seikkailua! \n\n\n\nFilippa Hella on porvoolainen kuvittaja\, kirjailija ja sarjakuvantekijä. \n\n\n\n*** \n\n\n\nFilippa Hellas serieutställning En gråtmild elefant + en klassiker = Elefanten Algots lidanden visas på Söderkulla bibliotek 2.4–13.5. \n\n\n\nAlgot den sorgmodige är en seriefigur som gråtit på sin fuktiga trasmatta alltför länge. Nu är det dags för Algot att bege sig på en resa till en annan tid\, ett annat land. Han klär sig i blå rock\, gul väst\, blåa byxor och gula strumpor. Följ med Algot då han dyker upp i en av världslitteraturens klassiker. \n\n\n\nFilippa Hella är illustratör\, författare och serietecknare bosatt i Borgå.
URL:https://hellefinna.helle-extranet.fi/event/sarjakuvanayttely-serieutstallning-filippa-hella-norsu-algotin-karsimykset-elefanten-algots-lidanden/
LOCATION:Söderkullan kirjasto – Söderkulla bibliotek\, Amiraalintie 2\, Söderkulla\, 01150\, Finland
CATEGORIES:sipoo-sibbo
ATTACH;FMTTYPE=image/jpeg:https://hellefinna.helle-extranet.fi/wp-content/uploads/2026/03/FH-Algot2026_2-3.jpg
END:VEVENT
BEGIN:VEVENT
DTSTART;TZID=Europe/Helsinki:20260405T080000
DTEND;TZID=Europe/Helsinki:20260430T190000
DTSTAMP:20260423T021856
CREATED:20260408T124220Z
LAST-MODIFIED:20260408T124221Z
UID:15268-1775376000-1777575600@hellefinna.helle-extranet.fi
SUMMARY:Lasten taideteoksia huhtikuun ajan esillä Kirjaston Galleriaseinällä
DESCRIPTION:Marianne Mattilan 7 – 12 -vuotiaiden kuvataideryhmäläisten teoksia esillä Kirjaston Galleriaseinällä huhtikuun ajan. Nyt onkin mielenkiintoista katseltavaa! Lapset ovat maalanneet teoksia seuraavien aiheiden mukaan:  \n\n\n\n\nÖljymaalaus itselle läheisestä aiheesta\n\n\n\nHenkilökuva\, lyijykynän eri tummuuksilla\n\n\n\nNäkymä Myrskylästä\, peiteväri\n\n\n\nMinä harrastuksen parissa\, pastelliliitu\n\n\n\nTausta valokuvausta varten\n\n\n\nOma aihe\n\n\n\n\nNäyttelyn katsojat saavatkin tutkailla ja katsella mikä aihe kussakin teoksessa on. 
URL:https://hellefinna.helle-extranet.fi/event/lasten-taideteoksia-huhtikuun-ajan-esilla-kirjaston-galleriaseinalla/
LOCATION:Myrskylän kirjasto – Mörskom bibliotek\, Virastotie 5\, Myrskylä\, 07600\, Suomi
CATEGORIES:myrskyla-morskom
END:VEVENT
BEGIN:VEVENT
DTSTART;TZID=Europe/Helsinki:20260410T090000
DTEND;TZID=Europe/Helsinki:20260428T190000
DTSTAMP:20260423T021856
CREATED:20260309T131012Z
LAST-MODIFIED:20260309T131013Z
UID:15151-1775811600-1777402800@hellefinna.helle-extranet.fi
SUMMARY:ILONA2026 -kevätnäyttely 10.-28.4.
DESCRIPTION:Tervetuloa tutustumaan ILONA2026 -kevätnäyttelyymme Pornaisten kirjaston Pellavasaliin. \n\n\n\nKevätnäyttelyssämme on esillä kansalaisopistomme kankaankudonta-\, keramiikka-\, makramee- ja valokuvauskurssien opiskelijoiden töitä ja teoksia. \n\n\n\nNäyttely on avoinna pe 10.4.-ti 28.4. välisenä aikana kirjaston aukioloaikoina. Voit tarkistaa aukioloajat täältä: Kirjasto – Pornainen \n\n\n\nKirjasto on avoinna ma ja ke 9-16\, ti ja to 9-19\, pe 9-15. \n\n\n\nIloa ja oppimista kansalaisopistossa!
URL:https://hellefinna.helle-extranet.fi/event/ilona2026-kevatnayttely-10-28-4/
LOCATION:Pornaisten kirjasto – Borgnäs bibliotek\, Kirkkotie 174\, Pornainen\, 07170\, Suomi
CATEGORIES:Näyttelyt,pornainen-borgnas
ATTACH;FMTTYPE=image/jpeg:https://hellefinna.helle-extranet.fi/wp-content/uploads/2026/03/ilona2026.jpg
END:VEVENT
BEGIN:VEVENT
DTSTART;TZID=Europe/Helsinki:20260423T140000
DTEND;TZID=Europe/Helsinki:20260423T150000
DTSTAMP:20260423T021856
CREATED:20250425T072543Z
LAST-MODIFIED:20260415T113903Z
UID:14696-1776952800-1776956400@hellefinna.helle-extranet.fi
SUMMARY:Klo/Kl. 14: Lukukoira Pixie Söderkullan kirjastossa/Läshunden Pixie på Söderkulla bibliotek
DESCRIPTION:Harjoittele lukemista Kennelliiton lukukoira Pixien kanssa! Koira ei arvostele eikä huomauttele virheistä\, hitaudesta tai epäröinnistä. Koiran läsnäolo rentouttaa lukijaa ja lievittää stressiä. Lukuaika on 15 min. \n\n\n\nLukukoira on Söderkullan kirjastossa torstaisin 22.1.\, 5.2.\, 19.3.\, 23.4. ja 21.5. klo 14–15. \n\n\n\nVaraa aika lähettämällä sähköposti osoitteeseen soderkulla.kirjasto@sipoo.fi.  \n\n\n\n*** \n\n\n\nÖva på att läsa tillsammans med Kennelklubbens läshund Pixie! Hunden kritiserar inte eller pekar ut fel\, långsam takt eller tvekan. Hundens närvaro hjälper läsaren att slappna av och minskar på stressen. Lästiden är 15 minuter. \n\n\n\nLäshunden är på Söderkulla bibliotek torsdagar 22.1\, 5.2\, 19.3\, 23.4 och 21.5 kl. 14–15. \n\n\n\nBoka en tid per e-post till adressen biblioteket.soderkulla@sibbo.fi.
URL:https://hellefinna.helle-extranet.fi/event/klo-kl-14-lukukoira-pixie-soderkullan-kirjastossa-lashunden-pixie-pa-soderkulla-bibliotek-23-4/
LOCATION:Söderkullan kirjasto – Söderkulla bibliotek\, Amiraalintie 2\, Söderkulla\, 01150\, Finland
CATEGORIES:sipoo-sibbo
ATTACH;FMTTYPE=image/png:https://hellefinna.helle-extranet.fi/wp-content/uploads/2022/09/Lukukoira-Pixie-Soderkulla.png
END:VEVENT
BEGIN:VEVENT
DTSTART;TZID=Europe/Helsinki:20260423T173000
DTEND;TZID=Europe/Helsinki:20260423T183000
DTSTAMP:20260423T021856
CREATED:20260409T143806Z
LAST-MODIFIED:20260409T144025Z
UID:15277-1776965400-1776969000@hellefinna.helle-extranet.fi
SUMMARY:Kirjailijavieraana Christian Rönnbacka / Författarbesök: Christian Rönnbacka
DESCRIPTION:Kirjailija Christian Rönnbacka vierailee Porvoon pääkirjastossa torstaina 23.4. klo 17.30. Illan aikana keskustellaan hänen tuoreimmasta kirjastaan Armoton. \n\n\n\nArmoton on Christian Rönnbackan huippusuositun Hautalehto-dekkarisarjan kolmastoista osa ja tarraa kiinni aikamme ilmiöihin vetävän rikostutkinnan ohessa. Tuntematon pahantekijä raapii rikki mallikansalaisten julkisuuskuvaa. \n\n\n\nKirkkoherra Tuomas Sulkavuoren vaimo joutuu valokuvaajan ahdistelemaksi\, kun keltainen lehdistö haluaa imeä mehut kirkkoherran kosteasta illanvietosta.  Kun Sulkavuoren kotiin alkaa kohdistua vahingontekoja\, klikkiotsikoista ei ole pulaa. Hautalehdon työryhmälle selviää\, että kiusaajan naamion takana ilvehtii kuolema. \n\n\n\nMonta kertaa vuoden dekkaristiksi valittu Christian Rönnbacka on poliisitaustainen kirjailija\, joka on valloittanut lukijat Hautalehto ja Henna Björk -dekkareillaan. Hänen kirjojaan lainataan ahkerasti myös Porvoon kirjastossa. Armoton ilmestyi viime lokakuussa\, ja oli pitkään yksi kirjaston varatuimmista teoksista. \n\n\n\nTapahtuma on suomenkielinen\, maksuton ja kaikille avoin. \n\n\n\nKuva: Jetro Stavén \n\n\n\n** \n\n\n\nFörfattaren Christian Rönnbacka besöker Borgå huvudbibliotek torsdagen den 23 april kl. 17.30. Under kvällen får vi höra om hans senaste roman Armoton. \n\n\n\nArmoton\, den trettonde delen i Christian Rönnbackas superpopulära serie om deckaren Hautalehto\, tar vid sidan av brottsutredningen fasta på fenomen i vår tid. En okänd gärningsman slår hål på den offentliga bilden av den perfekta medborgaren. \n\n\n\nKyrkoherde Tuomas Sulkavuoris fru blir antastad av en fotograf när kvällspressen vill veta allt om kyrkoherdens blöta kväll på krogen. När det Sulkavuoreska hemmet börjar utsättas för skadegörelse växer klickbetena som svampar ur jorden. Hautalehtos arbetsgrupp upptäcker att bakom gärningsmannens mask grimaserar döden själv. \n\n\n\nFörfattaren Christian Rönnbacka\, med bakgrund inom polisen\, har ett flertal gånger valts till årets deckarförfattare. Med sina böcker om Hautalehto och Henna Björk har han charmat läsarna. \n\n\n\nEvenemanget är på finska\, gratis och öppet för alla. \n\n\n\nFoto: Jetro Stavén
URL:https://hellefinna.helle-extranet.fi/event/kirjailijavieraana-christian-ronnbacka-forfattarbesok-christian-ronnbacka/
LOCATION:Porvoon pääkirjasto – Borgå huvudbibliotek\, Papinkatu 20\, Porvoo\, 06100\, Suomi
CATEGORIES:porvoo-borga
ATTACH;FMTTYPE=image/jpeg:https://hellefinna.helle-extranet.fi/wp-content/uploads/2026/04/Ronnbacka-Jetro-Staven-small-1.jpg
END:VEVENT
BEGIN:VEVENT
DTSTART;TZID=Europe/Helsinki:20260423T180000
DTEND;TZID=Europe/Helsinki:20260423T183000
DTSTAMP:20260423T021856
CREATED:20251230T071126Z
LAST-MODIFIED:20251230T071913Z
UID:14423-1776967200-1776969000@hellefinna.helle-extranet.fi
SUMMARY:Satutuokio
DESCRIPTION:Tervetuloa kirjaston lastenosastolle kuuntelemaan satuja! Tuokion kesto on noin 15 minuuttia.
URL:https://hellefinna.helle-extranet.fi/event/satutuokio-9/
LOCATION:Pornaisten kirjasto – Borgnäs bibliotek\, Kirkkotie 174\, Pornainen\, 07170\, Suomi
CATEGORIES:pornainen-borgnas
END:VEVENT
END:VCALENDAR